BEGIN:VCALENDAR
VERSION:2.0
PRODID:-//University Academy Foundation - ECPv6.15.20//NONSGML v1.0//EN
CALSCALE:GREGORIAN
METHOD:PUBLISH
X-WR-CALNAME:University Academy Foundation
X-ORIGINAL-URL:https://uafoundationkc.org
X-WR-CALDESC:Events for University Academy Foundation
REFRESH-INTERVAL;VALUE=DURATION:PT1H
X-Robots-Tag:noindex
X-PUBLISHED-TTL:PT1H
BEGIN:VTIMEZONE
TZID:America/Chicago
BEGIN:DAYLIGHT
TZOFFSETFROM:-0600
TZOFFSETTO:-0500
TZNAME:CDT
DTSTART:20230312T080000
END:DAYLIGHT
BEGIN:STANDARD
TZOFFSETFROM:-0500
TZOFFSETTO:-0600
TZNAME:CST
DTSTART:20231105T070000
END:STANDARD
BEGIN:DAYLIGHT
TZOFFSETFROM:-0600
TZOFFSETTO:-0500
TZNAME:CDT
DTSTART:20240310T080000
END:DAYLIGHT
BEGIN:STANDARD
TZOFFSETFROM:-0500
TZOFFSETTO:-0600
TZNAME:CST
DTSTART:20241103T070000
END:STANDARD
BEGIN:DAYLIGHT
TZOFFSETFROM:-0600
TZOFFSETTO:-0500
TZNAME:CDT
DTSTART:20250309T080000
END:DAYLIGHT
BEGIN:STANDARD
TZOFFSETFROM:-0500
TZOFFSETTO:-0600
TZNAME:CST
DTSTART:20251102T070000
END:STANDARD
END:VTIMEZONE
BEGIN:VEVENT
DTSTART;TZID=America/Chicago:20241219T173000
DTEND;TZID=America/Chicago:20241219T203000
DTSTAMP:20260424T095909
CREATED:20241031T185751Z
LAST-MODIFIED:20241031T190106Z
UID:10000011-1734629400-1734640200@uafoundationkc.org
SUMMARY:Alumni Awards Banquet
DESCRIPTION:The Alumni Awards Banquet is a prestigious evening celebrating the achievements and legacy of our graduates\, honoring excellence and unity under the proud banner of Gryphon Pride. RSVP here. \nRSVP by December 6th\, 2024 \nNominate yourself or another alum for awards ranging from career achievement to community service to health and wellness. Complete the nomination form here. \nAll nominations are due December 10th\, 2024
URL:https://uafoundationkc.org/event/alumni-awards-banquet/
LOCATION:Lula Southern Cookhouse\, 617 Main St\, Suite 100\, Kansas City\, MO\, 64108\, United States
ATTACH;FMTTYPE=image/png:https://uafoundationkc.org/wp-content/uploads/2024/10/2024-UA-Alumni-Awards-Invite-Instagram-Post.png
END:VEVENT
END:VCALENDAR